BEGIN:VCALENDAR
VERSION:2.0
PRODID:-//NADI Pekan Bandar Baharu - ECPv6.15.13.1//NONSGML v1.0//EN
CALSCALE:GREGORIAN
METHOD:PUBLISH
X-ORIGINAL-URL:https://bandarbaharu.nadi.my
X-WR-CALDESC:Events for NADI Pekan Bandar Baharu
REFRESH-INTERVAL;VALUE=DURATION:PT1H
X-Robots-Tag:noindex
X-PUBLISHED-TTL:PT1H
BEGIN:VTIMEZONE
TZID:Asia/Kuala_Lumpur
BEGIN:STANDARD
TZOFFSETFROM:+0800
TZOFFSETTO:+0800
TZNAME:+08
DTSTART:20240101T000000
END:STANDARD
END:VTIMEZONE
BEGIN:VEVENT
DTSTART;TZID=Asia/Kuala_Lumpur:20251228T150000
DTEND;TZID=Asia/Kuala_Lumpur:20251228T160000
DTSTAMP:20260420T063122
CREATED:20251219T085717Z
LAST-MODIFIED:20251219T085717Z
UID:11170-1766934000-1766937600@bandarbaharu.nadi.my
SUMMARY:Kempen Internet Selamat - KIS & KITA
DESCRIPTION:
URL:https://bandarbaharu.nadi.my/event/kempen-internet-selamat-kis-kita-2/
LOCATION:NADI Pekan Bandar Baharu\, C1 Tingkat Atas\, Bangunan 2 Tingkat\, Bandar Baharu\, 34950\, Malaysia
END:VEVENT
END:VCALENDAR